BEGIN:VCALENDAR
VERSION:2.0
PRODID:-//Right Direction - ECPv6.15.20//NONSGML v1.0//EN
CALSCALE:GREGORIAN
METHOD:PUBLISH
X-WR-CALNAME:Right Direction
X-ORIGINAL-URL:https://rd-bhs.com
X-WR-CALDESC:Events for Right Direction
REFRESH-INTERVAL;VALUE=DURATION:PT1H
X-Robots-Tag:noindex
X-PUBLISHED-TTL:PT1H
BEGIN:VTIMEZONE
TZID:UTC
BEGIN:STANDARD
TZOFFSETFROM:+0000
TZOFFSETTO:+0000
TZNAME:UTC
DTSTART:20250101T000000
END:STANDARD
END:VTIMEZONE
BEGIN:VEVENT
DTSTART;VALUE=DATE:20260522
DTEND;VALUE=DATE:20260526
DTSTAMP:20260421T112319
CREATED:20250113T144216Z
LAST-MODIFIED:20260112T020808Z
UID:5289-1779408000-1779753599@rd-bhs.com
SUMMARY:Memorial Day ( Office Closed)
DESCRIPTION:
URL:https://rd-bhs.com/event/memorial-day-office-closed/
END:VEVENT
BEGIN:VEVENT
DTSTART;VALUE=DATE:20260619
DTEND;VALUE=DATE:20260620
DTSTAMP:20260421T112319
CREATED:20260112T020611Z
LAST-MODIFIED:20260112T020611Z
UID:5333-1781827200-1781913599@rd-bhs.com
SUMMARY:Juneteenth Celebration
DESCRIPTION:Clients of all ages are welcomed. No registration is needed.
URL:https://rd-bhs.com/event/juneteenth-celebration/
LOCATION:St Thomas Aquinas School\, 9101 Superior Ave\, Cleveland\, OH\, 44106\, United States
END:VEVENT
BEGIN:VEVENT
DTSTART;VALUE=DATE:20260619
DTEND;VALUE=DATE:20260621
DTSTAMP:20260421T112319
CREATED:20250113T144435Z
LAST-MODIFIED:20260112T020702Z
UID:5291-1781827200-1781999999@rd-bhs.com
SUMMARY:Juneteenth ( Office Closed)
DESCRIPTION:
URL:https://rd-bhs.com/event/juneteenth-office-closed/
END:VEVENT
BEGIN:VEVENT
DTSTART;VALUE=DATE:20260703
DTEND;VALUE=DATE:20260706
DTSTAMP:20260421T112319
CREATED:20250113T144834Z
LAST-MODIFIED:20260112T020915Z
UID:5293-1783036800-1783295999@rd-bhs.com
SUMMARY:Independence Day ( Office Closed)
DESCRIPTION:
URL:https://rd-bhs.com/event/independence-day-office-closed/
END:VEVENT
BEGIN:VEVENT
DTSTART;VALUE=DATE:20260904
DTEND;VALUE=DATE:20260908
DTSTAMP:20260421T112319
CREATED:20250113T145111Z
LAST-MODIFIED:20260112T020459Z
UID:5295-1788480000-1788825599@rd-bhs.com
SUMMARY:Labor Day ( Office Closed)
DESCRIPTION:
URL:https://rd-bhs.com/event/labor-day-office-closed/
END:VEVENT
BEGIN:VEVENT
DTSTART;VALUE=DATE:20261126
DTEND;VALUE=DATE:20261129
DTSTAMP:20260421T112319
CREATED:20250113T145639Z
LAST-MODIFIED:20260112T020136Z
UID:5297-1795651200-1795910399@rd-bhs.com
SUMMARY:Thanksgiving ( Office Closed)
DESCRIPTION:
URL:https://rd-bhs.com/event/thanksgiving-office-closed/
END:VEVENT
BEGIN:VEVENT
DTSTART;VALUE=DATE:20261221
DTEND;VALUE=DATE:20261226
DTSTAMP:20260421T112319
CREATED:20250113T145828Z
LAST-MODIFIED:20260112T020248Z
UID:5299-1797811200-1798243199@rd-bhs.com
SUMMARY:Christmas  ( Office Closed )
DESCRIPTION:
URL:https://rd-bhs.com/event/christmas-office-closed/
END:VEVENT
END:VCALENDAR